Package: scanMiR Version: 1.10.0 Command: /Library/Frameworks/R.framework/Resources/bin/R CMD check --install=check:scanMiR.install-out.txt --library=/Library/Frameworks/R.framework/Resources/library --no-vignettes --timings scanMiR_1.10.0.tar.gz StartedAt: 2024-10-18 10:53:36 -0400 (Fri, 18 Oct 2024) EndedAt: 2024-10-18 10:56:15 -0400 (Fri, 18 Oct 2024) EllapsedTime: 159.5 seconds RetCode: 0 Status: OK CheckDir: scanMiR.Rcheck Warnings: 0