Package: scanMiR Version: 1.10.0 Command: /Library/Frameworks/R.framework/Resources/bin/R CMD build --keep-empty-dirs --no-resave-data scanMiR StartedAt: 2024-10-17 08:19:30 -0400 (Thu, 17 Oct 2024) EndedAt: 2024-10-17 08:20:15 -0400 (Thu, 17 Oct 2024) EllapsedTime: 44.9 seconds RetCode: 0 Status: OK PackageFile: scanMiR_1.10.0.tar.gz PackageFileSize: 1.062 MiB