Package: scTreeViz Version: 1.10.0 Command: chmod a+r scTreeViz -R && F:\biocbuild\bbs-3.19-bioc\R\bin\R.exe CMD build --keep-empty-dirs --no-resave-data scTreeViz StartedAt: 2024-06-26 21:50:53 -0400 (Wed, 26 Jun 2024) EndedAt: 2024-06-26 21:54:07 -0400 (Wed, 26 Jun 2024) EllapsedTime: 194.7 seconds RetCode: 0 Status: OK PackageFile: scTreeViz_1.10.0.tar.gz PackageFileSize: 2.21 MiB