Package: scTreeViz Version: 1.10.0 Command: /Library/Frameworks/R.framework/Resources/bin/R CMD build --keep-empty-dirs --no-resave-data scTreeViz StartedAt: 2024-10-16 23:11:38 -0400 (Wed, 16 Oct 2024) EndedAt: 2024-10-16 23:17:48 -0400 (Wed, 16 Oct 2024) EllapsedTime: 370.2 seconds RetCode: 0 Status: OK PackageFile: scTreeViz_1.10.0.tar.gz PackageFileSize: 2.297 MiB