Package: scTreeViz Version: 1.10.0 Command: rm -rf scTreeViz.buildbin-libdir && mkdir scTreeViz.buildbin-libdir && /Users/biocbuild/BBS/utils/build-universal.sh scTreeViz_1.10.0.tar.gz /Library/Frameworks/R.framework/Resources/bin/R scTreeViz.buildbin-libdir StartedAt: 2024-10-17 17:09:48 -0400 (Thu, 17 Oct 2024) EndedAt: 2024-10-17 17:12:39 -0400 (Thu, 17 Oct 2024) EllapsedTime: 171.4 seconds RetCode: 0 Status: OK PackageFile: scTreeViz_1.10.0.tgz PackageFileSize: 2.614 MiB