Package: scTreeViz Version: 1.10.0 Command: /Library/Frameworks/R.framework/Resources/bin/R CMD check --install=check:scTreeViz.install-out.txt --library=/Library/Frameworks/R.framework/Resources/library --no-vignettes --timings scTreeViz_1.10.0.tar.gz StartedAt: 2024-06-09 22:59:01 -0400 (Sun, 09 Jun 2024) EndedAt: 2024-06-09 23:08:15 -0400 (Sun, 09 Jun 2024) EllapsedTime: 554.3 seconds RetCode: 0 Status: OK CheckDir: scTreeViz.Rcheck Warnings: 0