Package: scTreeViz Version: 1.10.0 Command: /home/biocbuild/R/R-beta-2024-04-15_r86425/bin/R CMD build --keep-empty-dirs --no-resave-data scTreeViz StartedAt: 2024-05-09 03:30:37 -0000 (Thu, 09 May 2024) EndedAt: 2024-05-09 03:34:31 -0000 (Thu, 09 May 2024) EllapsedTime: 233.3 seconds RetCode: 0 Status: OK PackageFile: scTreeViz_1.10.0.tar.gz PackageFileSize: 2.314 MiB