Package: scTreeViz Version: 1.10.0 Maintainer: Jayaram Kancherla MaintainerEmail: jayaram.kancherla at gmail.com git_url: https://git.bioconductor.org/packages/scTreeViz git_branch: RELEASE_3_19 git_last_commit: 2f5ac29 git_last_commit_date: 2024-04-30 11:37:42 -0400 (Tue, 30 Apr 2024)