Package: scTensor Version: 2.14.0 Command: E:\biocbuild\bbs-3.19-bioc\R\bin\R.exe CMD INSTALL scTensor StartedAt: 2024-10-16 17:10:03 -0400 (Wed, 16 Oct 2024) EndedAt: 2024-10-16 17:11:21 -0400 (Wed, 16 Oct 2024) EllapsedTime: 77.2 seconds RetCode: 0 Status: OK