Package: scTensor Version: 2.14.0 Command: chmod a+r scTensor -R && E:\biocbuild\bbs-3.19-bioc\R\bin\R.exe CMD build --keep-empty-dirs --no-resave-data scTensor StartedAt: 2024-10-16 21:51:40 -0400 (Wed, 16 Oct 2024) EndedAt: 2024-10-16 21:54:08 -0400 (Wed, 16 Oct 2024) EllapsedTime: 147.9 seconds RetCode: 0 Status: OK PackageFile: scTensor_2.14.0.tar.gz PackageFileSize: 10.26 MiB