Package: scTensor Version: 2.14.0 Command: rm -rf scTensor.buildbin-libdir && mkdir scTensor.buildbin-libdir && E:\biocbuild\bbs-3.19-bioc\R\bin\R.exe CMD INSTALL --build --library=scTensor.buildbin-libdir scTensor_2.14.0.tar.gz StartedAt: 2024-10-17 08:36:39 -0400 (Thu, 17 Oct 2024) EndedAt: 2024-10-17 08:38:07 -0400 (Thu, 17 Oct 2024) EllapsedTime: 88.6 seconds RetCode: 0 Status: OK PackageFile: scTensor_2.14.0.zip PackageFileSize: 5.662 MiB