Package: scTensor Version: 2.14.0 Command: chmod a+r scTensor -R && F:\biocbuild\bbs-3.19-bioc\R\bin\R.exe CMD build --keep-empty-dirs --no-resave-data scTensor StartedAt: 2024-06-26 21:50:33 -0400 (Wed, 26 Jun 2024) EndedAt: 2024-06-26 21:55:41 -0400 (Wed, 26 Jun 2024) EllapsedTime: 307.7 seconds RetCode: 0 Status: OK PackageFile: scTensor_2.14.0.tar.gz PackageFileSize: 10.26 MiB