Package: scTensor Version: 2.14.0 Command: /home/biocbuild/bbs-3.19-bioc/R/bin/R CMD INSTALL scTensor StartedAt: 2024-10-16 16:37:23 -0400 (Wed, 16 Oct 2024) EndedAt: 2024-10-16 16:38:14 -0400 (Wed, 16 Oct 2024) EllapsedTime: 51.8 seconds RetCode: 0 Status: OK