Package: scTensor Version: 2.14.0 Command: /home/biocbuild/bbs-3.19-bioc/R/bin/R CMD check --install=check:scTensor.install-out.txt --library=/home/biocbuild/bbs-3.19-bioc/R/site-library --timings scTensor_2.14.0.tar.gz StartedAt: 2024-10-17 04:58:22 -0400 (Thu, 17 Oct 2024) EndedAt: 2024-10-17 05:05:36 -0400 (Thu, 17 Oct 2024) EllapsedTime: 433.9 seconds RetCode: 0 Status: WARNINGS CheckDir: scTensor.Rcheck Warnings: 1