Package: scTensor Version: 2.14.0 Command: /Library/Frameworks/R.framework/Resources/bin/R CMD check --install=check:scTensor.install-out.txt --library=/Library/Frameworks/R.framework/Resources/library --no-vignettes --timings scTensor_2.14.0.tar.gz StartedAt: 2024-06-11 05:03:08 -0400 (Tue, 11 Jun 2024) EndedAt: 2024-06-11 05:43:09 -0400 (Tue, 11 Jun 2024) EllapsedTime: 2400.9 seconds RetCode: None Status: TIMEOUT CheckDir: scTensor.Rcheck Warnings: NA