Package: scTensor Version: 2.14.0 Command: rm -rf scTensor.buildbin-libdir && mkdir scTensor.buildbin-libdir && /Users/biocbuild/BBS/utils/build-universal.sh scTensor_2.14.0.tar.gz /Library/Frameworks/R.framework/Resources/bin/R scTensor.buildbin-libdir StartedAt: 2024-06-11 13:09:39 -0400 (Tue, 11 Jun 2024) EndedAt: 2024-06-11 13:25:59 -0400 (Tue, 11 Jun 2024) EllapsedTime: 979.8 seconds RetCode: 0 Status: OK PackageFile: scTensor_2.14.0.tgz PackageFileSize: 5.883 MiB