Package: scTensor Version: 2.14.0 Command: /Library/Frameworks/R.framework/Resources/bin/R CMD check --install=check:scTensor.install-out.txt --library=/Library/Frameworks/R.framework/Resources/library --no-vignettes --timings scTensor_2.14.0.tar.gz StartedAt: 2024-10-18 11:49:25 -0400 (Fri, 18 Oct 2024) EndedAt: 2024-10-18 11:57:19 -0400 (Fri, 18 Oct 2024) EllapsedTime: 474.7 seconds RetCode: 0 Status: WARNINGS CheckDir: scTensor.Rcheck Warnings: 1