Package: scTensor Version: 2.14.0 Maintainer: Koki Tsuyuzaki MaintainerEmail: k.t.the-answer at hotmail.co.jp git_url: https://git.bioconductor.org/packages/scTensor git_branch: RELEASE_3_19 git_last_commit: 5ee2a91 git_last_commit_date: 2024-04-30 11:11:18 -0400 (Tue, 30 Apr 2024)