Package: scTHI Version: 1.16.0 Command: /home/biocbuild/bbs-3.19-bioc/R/bin/R CMD build --keep-empty-dirs --no-resave-data scTHI StartedAt: 2024-10-16 20:46:09 -0400 (Wed, 16 Oct 2024) EndedAt: 2024-10-16 20:47:12 -0400 (Wed, 16 Oct 2024) EllapsedTime: 63.1 seconds RetCode: 0 Status: OK PackageFile: scTHI_1.16.0.tar.gz PackageFileSize: 645.4 KiB