Package: scTHI Version: 1.16.0 Command: /Library/Frameworks/R.framework/Resources/bin/R CMD check --install=check:scTHI.install-out.txt --library=/Library/Frameworks/R.framework/Resources/library --no-vignettes --timings scTHI_1.16.0.tar.gz StartedAt: 2024-10-18 11:51:16 -0400 (Fri, 18 Oct 2024) EndedAt: 2024-10-18 11:52:37 -0400 (Fri, 18 Oct 2024) EllapsedTime: 80.5 seconds RetCode: 0 Status: OK CheckDir: scTHI.Rcheck Warnings: 0