Package: scTGIF Version: 1.18.0 Command: rm -rf scTGIF.buildbin-libdir && mkdir scTGIF.buildbin-libdir && F:\biocbuild\bbs-3.19-bioc\R\bin\R.exe CMD INSTALL --build --library=scTGIF.buildbin-libdir scTGIF_1.18.0.tar.gz StartedAt: 2024-06-27 08:54:02 -0400 (Thu, 27 Jun 2024) EndedAt: 2024-06-27 08:54:51 -0400 (Thu, 27 Jun 2024) EllapsedTime: 48.9 seconds RetCode: 0 Status: OK PackageFile: scTGIF_1.18.0.zip PackageFileSize: 1.991 MiB