Package: scTGIF Version: 1.18.0 Command: /Library/Frameworks/R.framework/Resources/bin/R CMD check --install=check:scTGIF.install-out.txt --library=/Library/Frameworks/R.framework/Resources/library --no-vignettes --timings scTGIF_1.18.0.tar.gz StartedAt: 2024-10-18 11:49:31 -0400 (Fri, 18 Oct 2024) EndedAt: 2024-10-18 11:55:04 -0400 (Fri, 18 Oct 2024) EllapsedTime: 333.2 seconds RetCode: 0 Status: OK CheckDir: scTGIF.Rcheck Warnings: 0