Package: scTGIF Version: 1.18.0 Command: /Library/Frameworks/R.framework/Resources/bin/R CMD build --keep-empty-dirs --no-resave-data scTGIF StartedAt: 2024-10-17 08:57:26 -0400 (Thu, 17 Oct 2024) EndedAt: 2024-10-17 08:58:49 -0400 (Thu, 17 Oct 2024) EllapsedTime: 83.2 seconds RetCode: 0 Status: OK PackageFile: scTGIF_1.18.0.tar.gz PackageFileSize: 2.411 MiB