Package: scShapes Version: 1.10.0 Command: chmod a+r scShapes -R && E:\biocbuild\bbs-3.19-bioc\R\bin\R.exe CMD build --keep-empty-dirs --no-resave-data scShapes StartedAt: 2024-10-16 21:51:30 -0400 (Wed, 16 Oct 2024) EndedAt: 2024-10-16 21:53:31 -0400 (Wed, 16 Oct 2024) EllapsedTime: 120.6 seconds RetCode: 0 Status: OK PackageFile: scShapes_1.10.0.tar.gz PackageFileSize: 30.05 KiB