Package: scShapes Version: 1.10.0 Command: rm -rf scShapes.buildbin-libdir && mkdir scShapes.buildbin-libdir && F:\biocbuild\bbs-3.19-bioc\R\bin\R.exe CMD INSTALL --build --library=scShapes.buildbin-libdir scShapes_1.10.0.tar.gz StartedAt: 2024-06-27 08:53:58 -0400 (Thu, 27 Jun 2024) EndedAt: 2024-06-27 08:54:18 -0400 (Thu, 27 Jun 2024) EllapsedTime: 19.7 seconds RetCode: 0 Status: OK PackageFile: scShapes_1.10.0.zip PackageFileSize: 77.25 KiB