Package: scShapes Version: 1.10.0 Command: /home/biocbuild/bbs-3.19-bioc/R/bin/R CMD build --keep-empty-dirs --no-resave-data scShapes StartedAt: 2024-10-16 20:45:58 -0400 (Wed, 16 Oct 2024) EndedAt: 2024-10-16 20:47:18 -0400 (Wed, 16 Oct 2024) EllapsedTime: 80.1 seconds RetCode: 0 Status: OK PackageFile: scShapes_1.10.0.tar.gz PackageFileSize: 30.08 KiB