Package: scShapes Version: 1.10.0 Command: /Library/Frameworks/R.framework/Resources/bin/R CMD check --install=check:scShapes.install-out.txt --library=/Library/Frameworks/R.framework/Resources/library --no-vignettes --timings scShapes_1.10.0.tar.gz StartedAt: 2024-06-09 22:58:11 -0400 (Sun, 09 Jun 2024) EndedAt: 2024-06-09 23:01:23 -0400 (Sun, 09 Jun 2024) EllapsedTime: 192.3 seconds RetCode: 0 Status: OK CheckDir: scShapes.Rcheck Warnings: 0