Package: scShapes Version: 1.10.0 Command: /home/biocbuild/R/R-beta-2024-04-15_r86425/bin/R CMD build --keep-empty-dirs --no-resave-data scShapes StartedAt: 2024-05-09 03:29:48 -0000 (Thu, 09 May 2024) EndedAt: 2024-05-09 03:31:38 -0000 (Thu, 09 May 2024) EllapsedTime: 110.1 seconds RetCode: 0 Status: OK PackageFile: scShapes_1.10.0.tar.gz PackageFileSize: 30.68 KiB