Package: scShapes Version: 1.10.0 Command: /Library/Frameworks/R.framework/Resources/bin/R CMD build --keep-empty-dirs --no-resave-data scShapes StartedAt: 2024-06-10 04:30:58 -0400 (Mon, 10 Jun 2024) EndedAt: 2024-06-10 04:33:38 -0400 (Mon, 10 Jun 2024) EllapsedTime: 160.0 seconds RetCode: 0 Status: OK PackageFile: scShapes_1.10.0.tar.gz PackageFileSize: 29.8 KiB