Package: scShapes Version: 1.10.0 Maintainer: Malindrie Dharmaratne MaintainerEmail: malindrie at gmail.com git_url: https://git.bioconductor.org/packages/scShapes git_branch: RELEASE_3_19 git_last_commit: f799781 git_last_commit_date: 2024-04-30 11:35:57 -0400 (Tue, 30 Apr 2024)