Package: scRepertoire Version: 2.0.7 Command: rm -rf scRepertoire.buildbin-libdir && mkdir scRepertoire.buildbin-libdir && E:\biocbuild\bbs-3.19-bioc\R\bin\R.exe CMD INSTALL --build --library=scRepertoire.buildbin-libdir scRepertoire_2.0.7.tar.gz StartedAt: 2024-10-17 08:36:29 -0400 (Thu, 17 Oct 2024) EndedAt: 2024-10-17 08:38:44 -0400 (Thu, 17 Oct 2024) EllapsedTime: 135.2 seconds RetCode: 0 Status: OK PackageFile: scRepertoire_2.0.7.zip PackageFileSize: 5.025 MiB