Package: scRepertoire Version: 2.0.7 Command: /home/biocbuild/bbs-3.19-bioc/R/bin/R CMD build --keep-empty-dirs --no-resave-data scRepertoire StartedAt: 2024-10-16 20:44:35 -0400 (Wed, 16 Oct 2024) EndedAt: 2024-10-16 20:48:49 -0400 (Wed, 16 Oct 2024) EllapsedTime: 254.4 seconds RetCode: 0 Status: OK PackageFile: scRepertoire_2.0.7.tar.gz PackageFileSize: 20.67 MiB