Package: scRepertoire Version: 2.0.7 Command: /Library/Frameworks/R.framework/Resources/bin/R CMD INSTALL scRepertoire StartedAt: 2024-10-16 16:29:46 -0400 (Wed, 16 Oct 2024) EndedAt: 2024-10-16 16:32:04 -0400 (Wed, 16 Oct 2024) EllapsedTime: 138.3 seconds RetCode: 0 Status: OK