Package: scRepertoire Version: 2.0.7 Command: /Library/Frameworks/R.framework/Resources/bin/R CMD build --keep-empty-dirs --no-resave-data scRepertoire StartedAt: 2024-10-16 23:07:49 -0400 (Wed, 16 Oct 2024) EndedAt: 2024-10-16 23:21:13 -0400 (Wed, 16 Oct 2024) EllapsedTime: 804.0 seconds RetCode: 0 Status: OK PackageFile: scRepertoire_2.0.7.tar.gz PackageFileSize: 23.05 MiB