Package: scRepertoire Version: 2.0.0 Command: /home/biocbuild/R/R-beta-2024-04-15_r86425/bin/R CMD build --keep-empty-dirs --no-resave-data scRepertoire StartedAt: 2024-05-09 03:28:13 -0000 (Thu, 09 May 2024) EndedAt: 2024-05-09 03:36:13 -0000 (Thu, 09 May 2024) EllapsedTime: 479.6 seconds RetCode: 0 Status: OK PackageFile: scRepertoire_2.0.0.tar.gz PackageFileSize: 17.71 MiB