Package: scRepertoire Version: 2.0.0 Command: /Library/Frameworks/R.framework/Resources/bin/R CMD build --keep-empty-dirs --no-resave-data scRepertoire StartedAt: 2024-06-10 04:28:27 -0400 (Mon, 10 Jun 2024) EndedAt: 2024-06-10 04:35:20 -0400 (Mon, 10 Jun 2024) EllapsedTime: 412.9 seconds RetCode: 0 Status: OK PackageFile: scRepertoire_2.0.0.tar.gz PackageFileSize: 22.44 MiB