Package: scRepertoire Version: 2.0.7 Command: /Library/Frameworks/R.framework/Resources/bin/R CMD check --install=check:scRepertoire.install-out.txt --library=/Library/Frameworks/R.framework/Resources/library --no-vignettes --timings scRepertoire_2.0.7.tar.gz StartedAt: 2024-10-18 11:40:41 -0400 (Fri, 18 Oct 2024) EndedAt: 2024-10-18 11:52:25 -0400 (Fri, 18 Oct 2024) EllapsedTime: 703.8 seconds RetCode: 0 Status: OK CheckDir: scRepertoire.Rcheck Warnings: 0