Package: scRepertoire Version: 2.0.7 Command: /Library/Frameworks/R.framework/Resources/bin/R CMD build --keep-empty-dirs --no-resave-data scRepertoire StartedAt: 2024-10-17 08:52:50 -0400 (Thu, 17 Oct 2024) EndedAt: 2024-10-17 08:58:32 -0400 (Thu, 17 Oct 2024) EllapsedTime: 342.3 seconds RetCode: 0 Status: OK PackageFile: scRepertoire_2.0.7.tar.gz PackageFileSize: 23.1 MiB