Package: scRepertoire Version: 2.0.7 Command: rm -rf scRepertoire.buildbin-libdir && mkdir scRepertoire.buildbin-libdir && /Users/biocbuild/BBS/utils/build-universal.sh scRepertoire_2.0.7.tar.gz /Library/Frameworks/R.framework/Resources/bin/R scRepertoire.buildbin-libdir StartedAt: 2024-10-15 20:13:01 -0400 (Tue, 15 Oct 2024) EndedAt: 2024-10-15 20:14:24 -0400 (Tue, 15 Oct 2024) EllapsedTime: 83.1 seconds RetCode: 0 Status: OK PackageFile: scRepertoire_2.0.7.tgz PackageFileSize: 10.09 MiB