Package: scRepertoire Version: 2.0.7 Maintainer: Nick Borcherding MaintainerEmail: ncborch at gmail.com git_url: https://git.bioconductor.org/packages/scRepertoire git_branch: RELEASE_3_19 git_last_commit: fac14b9 git_last_commit_date: 2024-09-27 13:31:49 -0400 (Fri, 27 Sep 2024)