Package: scRecover Version: 1.20.0 Command: E:\biocbuild\bbs-3.19-bioc\R\bin\R.exe CMD INSTALL scRecover StartedAt: 2024-10-16 17:09:42 -0400 (Wed, 16 Oct 2024) EndedAt: 2024-10-16 17:09:56 -0400 (Wed, 16 Oct 2024) EllapsedTime: 14.3 seconds RetCode: 0 Status: OK