Package: scRecover Version: 1.20.0 Command: chmod a+r scRecover -R && E:\biocbuild\bbs-3.19-bioc\R\bin\R.exe CMD build --keep-empty-dirs --no-resave-data scRecover StartedAt: 2024-10-16 21:49:33 -0400 (Wed, 16 Oct 2024) EndedAt: 2024-10-16 21:51:49 -0400 (Wed, 16 Oct 2024) EllapsedTime: 135.5 seconds RetCode: 0 Status: OK PackageFile: scRecover_1.20.0.tar.gz PackageFileSize: 1.712 MiB