Package: scRecover Version: 1.20.0 Command: /home/biocbuild/bbs-3.19-bioc/R/bin/R CMD INSTALL scRecover StartedAt: 2024-10-16 16:36:55 -0400 (Wed, 16 Oct 2024) EndedAt: 2024-10-16 16:37:04 -0400 (Wed, 16 Oct 2024) EllapsedTime: 8.4 seconds RetCode: 0 Status: OK