Package: scRecover Version: 1.20.0 Command: /Library/Frameworks/R.framework/Resources/bin/R CMD build --keep-empty-dirs --no-resave-data scRecover StartedAt: 2024-10-17 08:50:43 -0400 (Thu, 17 Oct 2024) EndedAt: 2024-10-17 08:52:50 -0400 (Thu, 17 Oct 2024) EllapsedTime: 126.0 seconds RetCode: 0 Status: OK PackageFile: scRecover_1.20.0.tar.gz PackageFileSize: 1.713 MiB