Package: scRecover Version: 1.20.0 Maintainer: Zhun Miao MaintainerEmail: miaoz13 at tsinghua.org.cn git_url: https://git.bioconductor.org/packages/scRecover git_branch: RELEASE_3_19 git_last_commit: b6f1ea6 git_last_commit_date: 2024-04-30 11:14:10 -0400 (Tue, 30 Apr 2024)