Package: scReClassify Version: 1.10.0 Command: rm -rf scReClassify.buildbin-libdir && mkdir scReClassify.buildbin-libdir && E:\biocbuild\bbs-3.19-bioc\R\bin\R.exe CMD INSTALL --build --library=scReClassify.buildbin-libdir scReClassify_1.10.0.tar.gz StartedAt: 2024-10-17 08:36:16 -0400 (Thu, 17 Oct 2024) EndedAt: 2024-10-17 08:36:45 -0400 (Thu, 17 Oct 2024) EllapsedTime: 28.6 seconds RetCode: 0 Status: OK PackageFile: scReClassify_1.10.0.zip PackageFileSize: 2.441 MiB