Package: scReClassify Version: 1.10.0 Command: rm -rf scReClassify.buildbin-libdir && mkdir scReClassify.buildbin-libdir && F:\biocbuild\bbs-3.19-bioc\R\bin\R.exe CMD INSTALL --build --library=scReClassify.buildbin-libdir scReClassify_1.10.0.tar.gz StartedAt: 2024-06-27 08:53:32 -0400 (Thu, 27 Jun 2024) EndedAt: 2024-06-27 08:54:12 -0400 (Thu, 27 Jun 2024) EllapsedTime: 39.6 seconds RetCode: 0 Status: OK PackageFile: scReClassify_1.10.0.zip PackageFileSize: 2.441 MiB