Package: scReClassify Version: 1.10.0 Command: /Library/Frameworks/R.framework/Resources/bin/R CMD INSTALL scReClassify StartedAt: 2024-10-16 15:21:12 -0400 (Wed, 16 Oct 2024) EndedAt: 2024-10-16 15:22:02 -0400 (Wed, 16 Oct 2024) EllapsedTime: 49.5 seconds RetCode: 0 Status: OK