Package: scReClassify Version: 1.10.0 Command: rm -rf scReClassify.buildbin-libdir && mkdir scReClassify.buildbin-libdir && /Users/biocbuild/BBS/utils/build-universal.sh scReClassify_1.10.0.tar.gz /Library/Frameworks/R.framework/Resources/bin/R scReClassify.buildbin-libdir StartedAt: 2024-06-10 00:38:48 -0400 (Mon, 10 Jun 2024) EndedAt: 2024-06-10 00:39:19 -0400 (Mon, 10 Jun 2024) EllapsedTime: 30.4 seconds RetCode: 0 Status: OK PackageFile: scReClassify_1.10.0.tgz PackageFileSize: 2.49 MiB