Package: scReClassify Version: 1.10.0 Command: /Library/Frameworks/R.framework/Resources/bin/R CMD build --keep-empty-dirs --no-resave-data scReClassify StartedAt: 2024-06-10 04:25:01 -0400 (Mon, 10 Jun 2024) EndedAt: 2024-06-10 04:28:27 -0400 (Mon, 10 Jun 2024) EllapsedTime: 206.3 seconds RetCode: 0 Status: OK PackageFile: scReClassify_1.10.0.tar.gz PackageFileSize: 2.59 MiB